BEGIN:VCALENDAR
VERSION:2.0
PRODID:-//Spencer County Democratic Party - ECPv6.15.20//NONSGML v1.0//EN
CALSCALE:GREGORIAN
METHOD:PUBLISH
X-ORIGINAL-URL:https://spencerdemocrats.org
X-WR-CALDESC:Events for Spencer County Democratic Party
REFRESH-INTERVAL;VALUE=DURATION:PT1H
X-Robots-Tag:noindex
X-PUBLISHED-TTL:PT1H
BEGIN:VTIMEZONE
TZID:America/Indiana/Tell_City
BEGIN:DAYLIGHT
TZOFFSETFROM:-0600
TZOFFSETTO:-0500
TZNAME:CDT
DTSTART:20250309T080000
END:DAYLIGHT
BEGIN:STANDARD
TZOFFSETFROM:-0500
TZOFFSETTO:-0600
TZNAME:CST
DTSTART:20251102T070000
END:STANDARD
BEGIN:DAYLIGHT
TZOFFSETFROM:-0600
TZOFFSETTO:-0500
TZNAME:CDT
DTSTART:20260308T080000
END:DAYLIGHT
BEGIN:STANDARD
TZOFFSETFROM:-0500
TZOFFSETTO:-0600
TZNAME:CST
DTSTART:20261101T070000
END:STANDARD
BEGIN:DAYLIGHT
TZOFFSETFROM:-0600
TZOFFSETTO:-0500
TZNAME:CDT
DTSTART:20270314T080000
END:DAYLIGHT
BEGIN:STANDARD
TZOFFSETFROM:-0500
TZOFFSETTO:-0600
TZNAME:CST
DTSTART:20271107T070000
END:STANDARD
END:VTIMEZONE
BEGIN:VEVENT
DTSTART;TZID=America/Indiana/Tell_City:20260726T123000
DTEND;TZID=America/Indiana/Tell_City:20260726T170000
DTSTAMP:20260426T005609
CREATED:20260313T184327Z
LAST-MODIFIED:20260313T184327Z
UID:2494-1785069000-1785085200@spencerdemocrats.org
SUMMARY:Annual Fish Fry
DESCRIPTION:The Spencer County Democratic Fish Fry will be on July 26\, 2026. \nMore information to be posted at later date.
URL:https://spencerdemocrats.org/index.php/events/annual-fish-fry/
LOCATION:Spencer County Youth & Community Center\, 1101 E County Rd 800 N\, Chrisney\, IN\, 47611\, United States
ORGANIZER;CN="Spencer County Democrats":MAILTO:scdcc@spencerdemocrats.org
END:VEVENT
END:VCALENDAR