BEGIN:VCALENDAR
VERSION:2.0
PRODID:-//Spencer County Democratic Party - ECPv6.15.20//NONSGML v1.0//EN
CALSCALE:GREGORIAN
METHOD:PUBLISH
X-WR-CALNAME:Spencer County Democratic Party
X-ORIGINAL-URL:https://spencerdemocrats.org
X-WR-CALDESC:Events for Spencer County Democratic Party
REFRESH-INTERVAL;VALUE=DURATION:PT1H
X-Robots-Tag:noindex
X-PUBLISHED-TTL:PT1H
BEGIN:VTIMEZONE
TZID:America/Indiana/Tell_City
BEGIN:DAYLIGHT
TZOFFSETFROM:-0600
TZOFFSETTO:-0500
TZNAME:CDT
DTSTART:20190310T080000
END:DAYLIGHT
BEGIN:STANDARD
TZOFFSETFROM:-0500
TZOFFSETTO:-0600
TZNAME:CST
DTSTART:20191103T070000
END:STANDARD
BEGIN:DAYLIGHT
TZOFFSETFROM:-0600
TZOFFSETTO:-0500
TZNAME:CDT
DTSTART:20200308T080000
END:DAYLIGHT
BEGIN:STANDARD
TZOFFSETFROM:-0500
TZOFFSETTO:-0600
TZNAME:CST
DTSTART:20201101T070000
END:STANDARD
BEGIN:DAYLIGHT
TZOFFSETFROM:-0600
TZOFFSETTO:-0500
TZNAME:CDT
DTSTART:20210314T080000
END:DAYLIGHT
BEGIN:STANDARD
TZOFFSETFROM:-0500
TZOFFSETTO:-0600
TZNAME:CST
DTSTART:20211107T070000
END:STANDARD
BEGIN:DAYLIGHT
TZOFFSETFROM:-0600
TZOFFSETTO:-0500
TZNAME:CDT
DTSTART:20220313T080000
END:DAYLIGHT
BEGIN:STANDARD
TZOFFSETFROM:-0500
TZOFFSETTO:-0600
TZNAME:CST
DTSTART:20221106T070000
END:STANDARD
BEGIN:DAYLIGHT
TZOFFSETFROM:-0600
TZOFFSETTO:-0500
TZNAME:CDT
DTSTART:20230312T080000
END:DAYLIGHT
BEGIN:STANDARD
TZOFFSETFROM:-0500
TZOFFSETTO:-0600
TZNAME:CST
DTSTART:20231105T070000
END:STANDARD
BEGIN:DAYLIGHT
TZOFFSETFROM:-0600
TZOFFSETTO:-0500
TZNAME:CDT
DTSTART:20240310T080000
END:DAYLIGHT
BEGIN:STANDARD
TZOFFSETFROM:-0500
TZOFFSETTO:-0600
TZNAME:CST
DTSTART:20241103T070000
END:STANDARD
BEGIN:DAYLIGHT
TZOFFSETFROM:-0600
TZOFFSETTO:-0500
TZNAME:CDT
DTSTART:20250309T080000
END:DAYLIGHT
BEGIN:STANDARD
TZOFFSETFROM:-0500
TZOFFSETTO:-0600
TZNAME:CST
DTSTART:20251102T070000
END:STANDARD
BEGIN:DAYLIGHT
TZOFFSETFROM:-0600
TZOFFSETTO:-0500
TZNAME:CDT
DTSTART:20260308T080000
END:DAYLIGHT
BEGIN:STANDARD
TZOFFSETFROM:-0500
TZOFFSETTO:-0600
TZNAME:CST
DTSTART:20261101T070000
END:STANDARD
BEGIN:DAYLIGHT
TZOFFSETFROM:-0600
TZOFFSETTO:-0500
TZNAME:CDT
DTSTART:20270314T080000
END:DAYLIGHT
BEGIN:STANDARD
TZOFFSETFROM:-0500
TZOFFSETTO:-0600
TZNAME:CST
DTSTART:20271107T070000
END:STANDARD
END:VTIMEZONE
BEGIN:VTIMEZONE
TZID:UTC
BEGIN:STANDARD
TZOFFSETFROM:+0000
TZOFFSETTO:+0000
TZNAME:UTC
DTSTART:20190101T000000
END:STANDARD
END:VTIMEZONE
BEGIN:VEVENT
DTSTART;TZID=America/Indiana/Tell_City:20260529T113000
DTEND;TZID=America/Indiana/Tell_City:20260529T170000
DTSTAMP:20260426T023336
CREATED:20260313T183832Z
LAST-MODIFIED:20260316T214830Z
UID:2490-1780054200-1780074000@spencerdemocrats.org
SUMMARY:Annual Golf Scramble 2026
DESCRIPTION:Where: Quail Crossing Golf Club\, Boonville\nWhen: Friday May 29th\n\nRegistration at 11:30CDT\nShotgun start at 12:30CDT\nDinner to follow at 5:00CDT at the Quail Crossing Golf Club\nRegistration deadline is May 26th.\n\nFormat: 4-man best ball scramble\, shotgun start\, there will be mulligans for sale. Ties are decided by the Western backup system.\nCosts: \n\n$100 per player or $400 per foursome.\nMulligans cost $5 each purchased at the registration table.\nFees include green fees\, golf cart\, goody bag\, and a dinner ticket for each player.\nDinner ticket only:  $20\n\nPrizes:\n\n1st – $360\n2nd – $240\n3rd – $120\ntwo $100 randomly drawn prizes\n\nSponsorship Levels:\n\n\nHole Sponsorship: $100 (sign + 2 dinners)\nCandidate’s Sponsorship: $250 (sign + 4 dinners)\nChairman’s Sponsorship: $500 (sign + dinner table)\nPresidential Sponsorship: $1000 (sign + dinner table + golf foursome)\n\nQuestions – contact the event chair – Ron Etienne at    catching_balls@yahoo.com
URL:https://spencerdemocrats.org/index.php/events/golf-scramble-2026/
LOCATION:Quail Crossing Golf Club\, Boonville\, IN\, United States
CATEGORIES:Fundraisers
ORGANIZER;CN="Spencer County Democrats":MAILTO:scdcc@spencerdemocrats.org
END:VEVENT
BEGIN:VEVENT
DTSTART;TZID=America/Indiana/Tell_City:20260426T113000
DTEND;TZID=America/Indiana/Tell_City:20260426T170000
DTSTAMP:20260426T023336
CREATED:20260310T223610Z
LAST-MODIFIED:20260313T185345Z
UID:2475-1777203000-1777222800@spencerdemocrats.org
SUMMARY:Spencer County JFK Dinner & Silent Auction
DESCRIPTION:The Spencer County Democratic Party’s annual JFK Dinner and Silent Auction is Sunday\, April 26\, 2026 at the Spencer County Youth & Community Center in Chrisney. Our featured speakers will include Beau Bayh\, candidate for Secretary of State\, and Mary Allen\, candidate for 8th District U.S. Representative. We will also welcome 8th District Democratic Party Chair\, Dave Crooks as well as local Democratic candidates. \nDoors will open at 11:30 AM CDT with catered meal service starting at 12:30 PM CDT. Carry-out service will also be available between 12 and 12:30. We will also have a silent auction\, live dessert auction\, and attendance door prizes. Tickets are $25 (free for students and children) and can be purchased in advance online –> Spencer County JFK Dinner Tickets-2026  or from precinct committee members or by calling (812) 660-9130. Tickets will also be available for purchase at the door.
URL:https://spencerdemocrats.org/index.php/events/spencer-county-jfk-dinner-silent-auction/
LOCATION:Spencer County Youth & Community Center\, 1101 E County Rd 800 N\, Chrisney\, IN\, 47611\, United States
CATEGORIES:Fundraisers
ORGANIZER;CN="Spencer County Democrats":MAILTO:scdcc@spencerdemocrats.org
END:VEVENT
BEGIN:VEVENT
DTSTART;TZID=America/Indiana/Tell_City:20240603T130000
DTEND;TZID=America/Indiana/Tell_City:20240603T180000
DTSTAMP:20260426T023336
CREATED:20200302T213730Z
LAST-MODIFIED:20240220T005213Z
UID:608-1717419600-1717437600@spencerdemocrats.org
SUMMARY:Golf Scramble 2024
DESCRIPTION:Registration and Dinner:   Registration begins at 12:00 P.M. CDT with shotgun start at 1:00 PM CDT.  Dinner follows at 5:00 PM at the Christmas Lake Country Club \nFormat:   4-man best ball scramble\, shotgun start\, there will be mulligans for sale.   Ties are decided by the Western backup system. \nCosts:   $80 per player or $300 per foursome.   Mulligans cost $5 each.   Fees include green fees\, golf cart\, goody bag\, and a dinner ticket for each player. \nPrizes:   1st Place- $300\, 2nd Place- $200\, 3rd Place- $100\, and 3 $100 randomly drawn prizes! \nClick or tap the button for registration and sponsorship information.\n \nGolf Scramble Registration and Sponsor Info
URL:https://spencerdemocrats.org/index.php/events/golf-scramble2023/
LOCATION:Christmas Lake Golf Course\, 1 Club House Rd.\, Santa Claus\, IN\, 47579\, United States
CATEGORIES:Fundraisers,Social Events
ORGANIZER;CN="Spencer County Democrats":MAILTO:scdcc@spencerdemocrats.org
END:VEVENT
BEGIN:VEVENT
DTSTART;TZID=America/Indiana/Tell_City:20240428T123000
DTEND;TZID=America/Indiana/Tell_City:20240428T140000
DTSTAMP:20260426T023336
CREATED:20200302T202341Z
LAST-MODIFIED:20250316T175751Z
UID:579-1714307400-1714312800@spencerdemocrats.org
SUMMARY:Spencer County JFK Dinner & Silent Auction 2025
DESCRIPTION:Doors open at 11:30 PM CDT with meal served at 12:30 PM CDT\nThe Spencer County Democratic Party is pleased to announce the annual Spencer County JFK Dinner and Silent Auction on Sunday\, April 27\, 2025 at the Spencer County Youth & Community Center in Chrisney.  Speakers will be announced closer to the event. \nDoors will open at 11:30 AM CDT with meal service starting at 12:30 PM CDT and carry-out service available from 12-12:30.  There will also be a silent auction and attendance door prizes.  Tickets are $20 (free for students and children) and can be purchased in advance online at or by calling (812) 660-9130.  Tickets will also be available for purchase at the door.
URL:https://spencerdemocrats.org/index.php/events/jfk2022/
LOCATION:Spencer County Youth & Community Center\, 1101 E County Rd 800 N\, Chrisney\, IN\, 47611\, United States
CATEGORIES:Fundraisers,Party Gatherings,Social Events
END:VEVENT
BEGIN:VEVENT
DTSTART;TZID=UTC:20221210T130000
DTEND;TZID=UTC:20221210T140000
DTSTAMP:20260426T023336
CREATED:20221106T010446Z
LAST-MODIFIED:20221106T010606Z
UID:2053-1670677200-1670680800@spencerdemocrats.org
SUMMARY:Santa Claus Christmas Parade
DESCRIPTION:Spencer County Democrats will continue the holiday festivities by participating in the annual Santa Claus Christmas Parade on Saturday\, December 10th.  Line-up will begin at 12:00 PM in the south Holiday World parking lot and the parade will start at 1:00 PM.  Come walk or ride our float as we celebrate Christmas in Spencer County!
URL:https://spencerdemocrats.org/index.php/events/santa-claus-christmas-parade/
LOCATION:IN
END:VEVENT
BEGIN:VEVENT
DTSTART;TZID=UTC:20221203T140000
DTEND;TZID=UTC:20221203T150000
DTSTAMP:20260426T023336
CREATED:20221106T010147Z
LAST-MODIFIED:20221106T010147Z
UID:2051-1670076000-1670079600@spencerdemocrats.org
SUMMARY:Rockport Christmas Parade
DESCRIPTION:Spencer County Democrats will be in the holiday spirit and participating in the annual Rockport Christmas Parade.  Line-up will begin at 1:00 PM at Rockport City Park and the parade will start at 2:00 PM. Come walk with us or ride our float.  Everyone welcome!
URL:https://spencerdemocrats.org/index.php/events/rockport-christmas-parade/
LOCATION:IN
END:VEVENT
BEGIN:VEVENT
DTSTART;TZID=UTC:20221201T180000
DTEND;TZID=UTC:20221201T200000
DTSTAMP:20260426T023336
CREATED:20221106T005730Z
LAST-MODIFIED:20221106T005730Z
UID:2043-1669917600-1669924800@spencerdemocrats.org
SUMMARY:Christmas Gathering
DESCRIPTION:Join us on Thursday\, December 1st at the Spencer County Youth & Community Center in Chrisney for a Christmas gathering of Spencer County Democrats from 6-8 PM.  We’ll provide the meat and drinks\, you bring your favorite covered dish or dessert.  This event will just be a time to relax\, visit\, and get in the holiday spirit.  We’ll also recognize all our volunteers that helped out with the 2022 campaign.  See you there!
URL:https://spencerdemocrats.org/index.php/events/christmas-gathering/
LOCATION:Spencer County Youth & Community Center\, 1101 E County Rd 800 N\, Chrisney\, IN\, 47611\, United States
CATEGORIES:Party Gatherings,Social Events
ATTACH;FMTTYPE=image/jpeg:https://spencerdemocrats.org/wp-content/uploads/2022/11/Christmas2.jpg
ORGANIZER;CN="Spencer County Democrats":MAILTO:scdcc@spencerdemocrats.org
END:VEVENT
BEGIN:VEVENT
DTSTART;TZID=America/Indiana/Tell_City:20220707T180000
DTEND;TZID=America/Indiana/Tell_City:20220707T193000
DTSTAMP:20260426T023336
CREATED:20220122T220627Z
LAST-MODIFIED:20220122T221355Z
UID:1581-1657216800-1657222200@spencerdemocrats.org
SUMMARY:Monthly Meeting
DESCRIPTION:Join us for the monthly meeting of the Spencer County Democratic Party.  All Democrats are invited and welcome to attend.  We need your support and participation as we work to take Spencer County #Back2Blue in 2022!  Food and drinks are normally provided at our meetings.
URL:https://spencerdemocrats.org/index.php/events/jul7/
LOCATION:Spencer County Youth & Community Center\, 1101 E County Rd 800 N\, Chrisney\, IN\, 47611\, United States
CATEGORIES:Meetings,Party Gatherings
ORGANIZER;CN="Spencer County Democrats":MAILTO:scdcc@spencerdemocrats.org
END:VEVENT
BEGIN:VEVENT
DTSTART;TZID=America/Indiana/Tell_City:20220602T180000
DTEND;TZID=America/Indiana/Tell_City:20220602T193000
DTSTAMP:20260426T023336
CREATED:20220122T213959Z
LAST-MODIFIED:20220122T221444Z
UID:1572-1654192800-1654198200@spencerdemocrats.org
SUMMARY:Monthly Meeting
DESCRIPTION:Join us for the monthly meeting of the Spencer County Democratic Party.  All Democrats are invited and welcome to attend.  We need your support and participation as we work to take Spencer County #Back2Blue in 2022!  Food and drinks are normally provided at our meetings.
URL:https://spencerdemocrats.org/index.php/events/jun2/
LOCATION:Spencer County Youth & Community Center\, 1101 E County Rd 800 N\, Chrisney\, IN\, 47611\, United States
CATEGORIES:Meetings,Party Gatherings
ORGANIZER;CN="Spencer County Democrats":MAILTO:scdcc@spencerdemocrats.org
END:VEVENT
BEGIN:VEVENT
DTSTART;TZID=America/Indiana/Tell_City:20220505T180000
DTEND;TZID=America/Indiana/Tell_City:20220505T193000
DTSTAMP:20260426T023336
CREATED:20220122T220505Z
LAST-MODIFIED:20220122T221528Z
UID:1579-1651773600-1651779000@spencerdemocrats.org
SUMMARY:Monthly Meeting
DESCRIPTION:Join us for the monthly meeting of the Spencer County Democratic Party.  All Democrats are invited and welcome to attend.  We need your support and participation as we work to take Spencer County #Back2Blue in 2022!  Food and drinks are normally provided at our meetings.
URL:https://spencerdemocrats.org/index.php/events/may5/
LOCATION:Spencer County Youth & Community Center\, 1101 E County Rd 800 N\, Chrisney\, IN\, 47611\, United States
CATEGORIES:Meetings,Party Gatherings
ORGANIZER;CN="Spencer County Democrats":MAILTO:scdcc@spencerdemocrats.org
END:VEVENT
BEGIN:VEVENT
DTSTART;TZID=America/Indiana/Tell_City:20220503T060000
DTEND;TZID=America/Indiana/Tell_City:20220503T180000
DTSTAMP:20260426T023336
CREATED:20220122T221244Z
LAST-MODIFIED:20220122T221244Z
UID:1583-1651557600-1651600800@spencerdemocrats.org
SUMMARY:Primary Election Day
DESCRIPTION:Be sure to cast your ballot in the Democratic Primary on Tuesday\, May 3 between 6:00 AM and 6:00 PM.  Cast your ballot at any one of seven voting centers in Spencer County.  Find more election and voting information here. \n 
URL:https://spencerdemocrats.org/index.php/events/primary-election-2022/
LOCATION:IN
CATEGORIES:Important Election Dates
ATTACH;FMTTYPE=image/jpeg:https://spencerdemocrats.org/wp-content/uploads/2020/09/VOTE4-e1660025481371.jpg
END:VEVENT
BEGIN:VEVENT
DTSTART;TZID=America/Indiana/Tell_City:20220407T180000
DTEND;TZID=America/Indiana/Tell_City:20220407T193000
DTSTAMP:20260426T023336
CREATED:20220122T213743Z
LAST-MODIFIED:20220122T213743Z
UID:1570-1649354400-1649359800@spencerdemocrats.org
SUMMARY:Monthly Meeting
DESCRIPTION:Join us for the monthly meeting of the Spencer County Democratic Party.  All Democrats are invited and welcome to attend.  We need your support and participation as we work to take Spencer County #Back2Blue in 2022!  Food and drinks are normally provided at our meetings.
URL:https://spencerdemocrats.org/index.php/events/apr7/
LOCATION:Spencer County Youth & Community Center\, 1101 E County Rd 800 N\, Chrisney\, IN\, 47611\, United States
ORGANIZER;CN="Spencer County Democrats":MAILTO:scdcc@spencerdemocrats.org
END:VEVENT
BEGIN:VEVENT
DTSTART;TZID=America/Indiana/Tell_City:20220303T180000
DTEND;TZID=America/Indiana/Tell_City:20220303T193000
DTSTAMP:20260426T023336
CREATED:20220122T213409Z
LAST-MODIFIED:20220122T213409Z
UID:1568-1646330400-1646335800@spencerdemocrats.org
SUMMARY:Monthly Meeting
DESCRIPTION:Join us for the monthly meeting of the Spencer County Democratic Party.  All Democrats are invited and welcome to attend.  We need your support and participation as we work to take Spencer County #Back2Blue in 2022!  Food and drinks are normally provided at our meetings.
URL:https://spencerdemocrats.org/index.php/events/mar3/
LOCATION:Spencer County Youth & Community Center\, 1101 E County Rd 800 N\, Chrisney\, IN\, 47611\, United States
CATEGORIES:Meetings,Party Gatherings
ORGANIZER;CN="Spencer County Democrats":MAILTO:scdcc@spencerdemocrats.org
END:VEVENT
BEGIN:VEVENT
DTSTART;TZID=America/Indiana/Tell_City:20220210T180000
DTEND;TZID=America/Indiana/Tell_City:20220210T193000
DTSTAMP:20260426T023336
CREATED:20220117T223803Z
LAST-MODIFIED:20220202T055032Z
UID:1544-1644516000-1644521400@spencerdemocrats.org
SUMMARY:Monthly Meeting
DESCRIPTION:***The February meeting has been postponed to February 10 due to the expected winter storm on Feb. 3. \nJoin us for the monthly meeting of the Spencer County Democratic Party.  All Democrats are invited and welcome to attend.  We need your support and participation as we work to take Spencer County #Back2Blue in 2022!  Food and drinks are normally provided at our meetings.
URL:https://spencerdemocrats.org/index.php/events/feb-mtg/
LOCATION:Spencer County Youth & Community Center\, 1101 E County Rd 800 N\, Chrisney\, IN\, 47611\, United States
CATEGORIES:Meetings
ORGANIZER;CN="Spencer County Democrats":MAILTO:scdcc@spencerdemocrats.org
END:VEVENT
BEGIN:VEVENT
DTSTART;TZID=America/Indiana/Tell_City:20211017T110000
DTEND;TZID=America/Indiana/Tell_City:20211017T130000
DTSTAMP:20260426T023336
CREATED:20211008T183716Z
LAST-MODIFIED:20211008T183716Z
UID:1533-1634468400-1634475600@spencerdemocrats.org
SUMMARY:Drive-Through Appreciation Dinner
DESCRIPTION:The Spencer County Democrats will show their appreciation to frontline workers at a drive-through only carryout dinner on Sunday\, October 17th at the Spencer County 4-H Center.  Party volunteers will serve carry-out meals from 11:00 AM to 1:00 PM or while supplies last.  Sponsored by the Spencer County Democratic Central Committee\, the menu will include smoked pork\, bread\, potato salad\, baked beans\, a dessert\, and bottled water.  Meals are being offered for free to education employees\, healthcare workers\, police\, firefighters\, EMT’s and first responders. \nSpencer County Democratic Chairman Dan Wilkinson said\, “Our local party members wanted to show our appreciation for the frontline workers in our county.  Our teachers\, nurses\, police\, firefighters and other first responders work extremely hard serving our community and have sacrificed even more over the past 18 months due the pandemic.  We felt that offering a free meal was one small way we could show our support and appreciation.” \nWilkinson said party members as well as the public are invited and that free will donations will be gladly accepted\, but not required.
URL:https://spencerdemocrats.org/index.php/events/appreciation-dinner/
LOCATION:Spencer County Youth & Community Center\, 1101 E County Rd 800 N\, Chrisney\, IN\, 47611\, United States
END:VEVENT
BEGIN:VEVENT
DTSTART;TZID=UTC:20210401T180000
DTEND;TZID=UTC:20210401T190000
DTSTAMP:20260426T023336
CREATED:20200729T034456Z
LAST-MODIFIED:20210328T155544Z
UID:1224-1617300000-1617303600@spencerdemocrats.org
SUMMARY:Monthly Meeting
DESCRIPTION:The April Central Committee meeting will be held at the Spencer County Youth & Community Center in Chrisney.
URL:https://spencerdemocrats.org/index.php/events/monthly-meeting-apr21/
LOCATION:Spencer County Youth & Community Center\, 1101 E County Rd 800 N\, Chrisney\, IN\, 47611\, United States
ORGANIZER;CN="Spencer County Democrats":MAILTO:scdcc@spencerdemocrats.org
END:VEVENT
BEGIN:VEVENT
DTSTART;TZID=America/Indiana/Tell_City:20200726T123000
DTEND;TZID=America/Indiana/Tell_City:20200726T143000
DTSTAMP:20260426T023336
CREATED:20200528T041450Z
LAST-MODIFIED:20200723T183517Z
UID:1040-1595766600-1595773800@spencerdemocrats.org
SUMMARY:Spencer County Democrat Fish Fry
DESCRIPTION:Join us for the annual Spencer County Democrat Fish Fry.  A delicious meal\, a good time\, a silent auction\, and a little fundraising to help elect the Spencer County Democratic candidates this fall.  Don’t miss it!  We plan to hold an in-person event\, but if that’s not possible we convert to carry-out service only.  Watch this space and our social media for updates. \nOur featured speakers will include: \n\nJonathan Weinzapfel\, Attorney General candidate\, former Evansville Mayor and Dist. 76 State Representative\nThomasina Marsili\, candidate for 8th District U.S. Rep. (and former Spencer County resident!)\nJohn Hurley\, candidate for State Representative\, Dist. 75 (and Spencer County native!)\nMeet and hear from other local candidates running on our ticket including Judge Jon Dartt\, Clerk Sara Arnold\, Jon Wright (candidate for Recorder)\, Commissioner Al Logsdon\, Vince Luecke (candidate for Commissioner)\, Gay Ann Harney(candidate for Treasurer)\, John Wood (candidate for Surveyor) as well as Bob Compton\, Frank Durbin\, Jr. and Blake Voges (all candidates for County Council).\n\nStudents\, children under 6 and active military admitted free of charge.  If you purchased a ticket to the cancelled JFK Dinner in March\, we will gladly accept your ticket for this event.  More details below.  You can purchase tickets from central committee members\, candidates and other party members or you can purchase online.
URL:https://spencerdemocrats.org/index.php/events/fish-fry/
LOCATION:Spencer County Youth & Community Center\, 1101 E County Rd 800 N\, Chrisney\, IN\, 47611\, United States
CATEGORIES:Fundraisers,Party Gatherings,Social Events
ATTACH;FMTTYPE=image/jpeg:https://spencerdemocrats.org/wp-content/uploads/2020/05/Fish-Fry-no-logo.jpg
ORGANIZER;CN="Spencer County Democrats":MAILTO:scdcc@spencerdemocrats.org
END:VEVENT
BEGIN:VEVENT
DTSTART;TZID=America/Indiana/Tell_City:20200702T180000
DTEND;TZID=America/Indiana/Tell_City:20200702T193000
DTSTAMP:20260426T023336
CREATED:20200302T212929Z
LAST-MODIFIED:20200614T222439Z
UID:606-1593712800-1593718200@spencerdemocrats.org
SUMMARY:Monthly Meeting
DESCRIPTION:Monthly Central Committee meeting.  All are invited and encouraged to attend on the first Thursday of every month to help plan and organize our activities!  Social distancing and masks are welcomed and encouraged.  We’re back at the 4-H Center this month in the large room. \n 
URL:https://spencerdemocrats.org/index.php/events/monthly-meeting-3/
LOCATION:Spencer County Youth & Community Center\, 1101 E County Rd 800 N\, Chrisney\, IN\, 47611\, United States
CATEGORIES:Meetings,Party Gatherings
ATTACH;FMTTYPE=image/jpeg:https://spencerdemocrats.org/wp-content/uploads/2020/03/IMG_5251-scaled-e1592173694254.jpg
ORGANIZER;CN="Spencer County Democrats":MAILTO:scdcc@spencerdemocrats.org
END:VEVENT
BEGIN:VEVENT
DTSTART;VALUE=DATE:20200613
DTEND;VALUE=DATE:20200614
DTSTAMP:20260426T023336
CREATED:20200302T215549Z
LAST-MODIFIED:20200302T215550Z
UID:614-1592006400-1592092799@spencerdemocrats.org
SUMMARY:Indiana State Democratic Convention
DESCRIPTION:The Indiana State Democratic Convention will be held in Indianapolis.  Delegates to the state convention are selected in the Primary Election in May. \nMore information here \n 
URL:https://spencerdemocrats.org/index.php/events/indiana-state-democratic-convention/
LOCATION:IN
CATEGORIES:Party Gatherings,State Party Events
ATTACH;FMTTYPE=image/jpeg:https://spencerdemocrats.org/wp-content/uploads/2020/03/INDems.jpg
ORGANIZER;CN="Indiana Democratic Party":MAILTO:info@indems.org
END:VEVENT
BEGIN:VEVENT
DTSTART;TZID=America/Indiana/Tell_City:20200611T180000
DTEND;TZID=America/Indiana/Tell_City:20200611T193000
DTSTAMP:20260426T023336
CREATED:20200302T214015Z
LAST-MODIFIED:20200528T042647Z
UID:612-1591898400-1591903800@spencerdemocrats.org
SUMMARY:Monthly Meeting
DESCRIPTION:Monthly Central Committee meeting.  All are invited and encouraged to attend. Meetings are normally on the first Thursday of each month\, however the June meeting has been moved to the second Thursday.  Meeting will be held in the shelter house at Chrisney Park with social distancing.
URL:https://spencerdemocrats.org/index.php/events/monthly-meeting-4/
LOCATION:Chrisney Park\, 503 E. High Street\, Chrisney\, IN\, 47611\, United States
CATEGORIES:Meetings,Party Gatherings
ATTACH;FMTTYPE=image/jpeg:https://spencerdemocrats.org/wp-content/uploads/2020/03/IMG_5251-scaled-e1592173694254.jpg
ORGANIZER;CN="Spencer County Democrats":MAILTO:scdcc@spencerdemocrats.org
END:VEVENT
BEGIN:VEVENT
DTSTART;TZID=America/Indiana/Tell_City:20200505T060000
DTEND;TZID=America/Indiana/Tell_City:20200505T180000
DTSTAMP:20260426T023336
CREATED:20200302T212239Z
LAST-MODIFIED:20200302T212239Z
UID:604-1588658400-1588701600@spencerdemocrats.org
SUMMARY:Primary Election Day
DESCRIPTION:Today is the day!  Be sure to get out and vote in the Democratic Primary and don’t forget to have your photo ID with you. \nFind your polling location here. \n 
URL:https://spencerdemocrats.org/index.php/events/primary-election-day/
LOCATION:IN
CATEGORIES:Important Election Dates
ATTACH;FMTTYPE=image/jpeg:https://spencerdemocrats.org/wp-content/uploads/2018/10/Your-Vote-Counts-e1583182396359.jpg
END:VEVENT
BEGIN:VEVENT
DTSTART;TZID=America/Indiana/Tell_City:20200423T235900
DTEND;TZID=America/Indiana/Tell_City:20200423T235900
DTSTAMP:20260426T023336
CREATED:20200302T211836Z
LAST-MODIFIED:20200302T212606Z
UID:602-1587686340-1587686340@spencerdemocrats.org
SUMMARY:Deadline for Absentee by Mail Applications to be Received
DESCRIPTION:Application to vote absentee by mail MUST BE RECEIVED by this deadline.\nDownload and Print an Application For Absentee Ballot By Mail \nDownload and Print an Application for Absentee Ballot In-Person \nDownload and Print an Application for Absentee Ballot by Traveling Board \nSolicitud De Voto En Ausencia Por Correo Unicamente (ABS-Mail in Spanish) \nSolicitud De Voto En Ausencia En Persona Unicamente (ABS-In Person in Spanish) \n 
URL:https://spencerdemocrats.org/index.php/events/deadline-for-absentee-by-mail-applications-to-be-received/
LOCATION:Spencer County Voter Registration Office\, Spencer County Courthouse\, 200 Main St.\, Rm. 5\, Rockport\, IN\, 47635\, United States
CATEGORIES:Important Election Dates
END:VEVENT
BEGIN:VEVENT
DTSTART;VALUE=DATE:20200407
DTEND;VALUE=DATE:20200408
DTSTAMP:20260426T023336
CREATED:20200302T211513Z
LAST-MODIFIED:20200302T211513Z
UID:594-1586217600-1586303999@spencerdemocrats.org
SUMMARY:Early/Absentee Voting Begins
DESCRIPTION:Early/Absentee voting begins for the 2020 Primary Election. \nDownload and Print an Application For Absentee Ballot By Mail \nDownload and Print an Application for Absentee Ballot In-Person \nDownload and Print an Application for Absentee Ballot by Traveling Board \nSolicitud De Voto En Ausencia Por Correo Unicamente (ABS-Mail in Spanish) \nSolicitud De Voto En Ausencia En Persona Unicamente (ABS-In Person in Spanish) \n  \n 
URL:https://spencerdemocrats.org/index.php/events/early-absentee-voting-begins/
LOCATION:Spencer County Voter Registration Office\, Spencer County Courthouse\, 200 Main St.\, Rm. 5\, Rockport\, IN\, 47635\, United States
CATEGORIES:Important Election Dates
END:VEVENT
BEGIN:VEVENT
DTSTART;TZID=America/Indiana/Tell_City:20200406T160000
DTEND;TZID=America/Indiana/Tell_City:20200406T160000
DTSTAMP:20260426T023336
CREATED:20200302T205414Z
LAST-MODIFIED:20200302T205414Z
UID:588-1586188800-1586188800@spencerdemocrats.org
SUMMARY:Deadline to Register for 2020 Primary Election
DESCRIPTION:In order to be eligible to vote in the 2020 Indiana Primary Election\, you must have your voter registration form turned in by the close of business on April 6th. \nGet registered online!\nDownload and Print a Voter Registration Form\niDownload and Print a Spanish Language Voter Registration Form
URL:https://spencerdemocrats.org/index.php/events/deadline-to-register-for-2020-primary-election/
LOCATION:Spencer County Voter Registration Office\, Spencer County Courthouse\, 200 Main St.\, Rm. 5\, Rockport\, IN\, 47635\, United States
CATEGORIES:Important Election Dates
ATTACH;FMTTYPE=image/jpeg:https://spencerdemocrats.org/wp-content/uploads/2018/10/Your-Vote-Counts-e1583182396359.jpg
END:VEVENT
BEGIN:VEVENT
DTSTART;TZID=America/Indiana/Tell_City:20200402T180000
DTEND;TZID=America/Indiana/Tell_City:20200402T190000
DTSTAMP:20260426T023336
CREATED:20200302T204229Z
LAST-MODIFIED:20200302T204229Z
UID:583-1585850400-1585854000@spencerdemocrats.org
SUMMARY:Monthly Meeting
DESCRIPTION:Monthly Central Committee meeting.  All are invited and encouraged to attend on the first Thursday of every month to help plan and organize our activities!  Food and beverages will be provided.
URL:https://spencerdemocrats.org/index.php/events/monthly-meeting-2/
LOCATION:Spencer County Youth & Community Center\, 1101 E County Rd 800 N\, Chrisney\, IN\, 47611\, United States
END:VEVENT
BEGIN:VEVENT
DTSTART;TZID=America/Indiana/Tell_City:20200305T180000
DTEND;TZID=America/Indiana/Tell_City:20200305T190000
DTSTAMP:20260426T023336
CREATED:20200302T200647Z
LAST-MODIFIED:20200303T053718Z
UID:572-1583431200-1583434800@spencerdemocrats.org
SUMMARY:Monthly Meeting
DESCRIPTION:Monthly Central Committee meeting.  All are invited and encouraged to attend on the first Thursday of every month to help plan and organize our activities!  Food and beverages will be provided.
URL:https://spencerdemocrats.org/index.php/events/monthly-meeting/
LOCATION:Spencer County Youth & Community Center\, 1101 E County Rd 800 N\, Chrisney\, IN\, 47611\, United States
CATEGORIES:Meetings,Party Gatherings
ATTACH;FMTTYPE=image/jpeg:https://spencerdemocrats.org/wp-content/uploads/2020/03/IMG_5251-scaled-e1592173694254.jpg
END:VEVENT
END:VCALENDAR